BEGIN:VCALENDAR
VERSION:2.0
PRODID:-//Hennesseys Bar - Kitchen - Garden - ECPv4.9.13//NONSGML v1.0//EN
CALSCALE:GREGORIAN
METHOD:PUBLISH
X-WR-CALNAME:Hennesseys Bar - Kitchen - Garden
X-ORIGINAL-URL:https://hennesseysdigbeth.co.uk
X-WR-CALDESC:Events for Hennesseys Bar - Kitchen - Garden
BEGIN:VTIMEZONE
TZID:Europe/London
BEGIN:DAYLIGHT
TZOFFSETFROM:+0000
TZOFFSETTO:+0100
TZNAME:BST
DTSTART:20220327T010000
END:DAYLIGHT
BEGIN:STANDARD
TZOFFSETFROM:+0100
TZOFFSETTO:+0000
TZNAME:GMT
DTSTART:20221030T010000
END:STANDARD
END:VTIMEZONE
BEGIN:VEVENT
DTSTART;TZID=Europe/London:20220625T150000
DTEND;TZID=Europe/London:20220625T190000
DTSTAMP:20260423T062008
CREATED:20220622T142559Z
LAST-MODIFIED:20220624T110337Z
UID:11561-1656169200-1656183600@hennesseysdigbeth.co.uk
SUMMARY:Elvis Tribute
DESCRIPTION:The Elvis experience\, Mark green and the Dixie rock and roll band covering all of Elvis’ greatest hits. \nFree Live show in the Garden!! \n\nhttps://hennesseysdigbeth.co.uk/website/wp-content/uploads/2022/06/elvistribute.mp4\n  \n
URL:https://hennesseysdigbeth.co.uk/event/elvistribute/
CATEGORIES:Birmingham,Live Music
ATTACH;FMTTYPE=image/jpeg:https://hennesseysdigbeth.co.uk/website/wp-content/uploads/2022/06/elvis-tribute.jpg
END:VEVENT
END:VCALENDAR