BEGIN:VCALENDAR
VERSION:2.0
PRODID:-//Hennesseys Bar - Kitchen - Garden - ECPv4.9.13//NONSGML v1.0//EN
CALSCALE:GREGORIAN
METHOD:PUBLISH
X-WR-CALNAME:Hennesseys Bar - Kitchen - Garden
X-ORIGINAL-URL:https://hennesseysdigbeth.co.uk
X-WR-CALDESC:Events for Hennesseys Bar - Kitchen - Garden
BEGIN:VTIMEZONE
TZID:Europe/London
BEGIN:DAYLIGHT
TZOFFSETFROM:+0000
TZOFFSETTO:+0100
TZNAME:BST
DTSTART:20230326T010000
END:DAYLIGHT
BEGIN:STANDARD
TZOFFSETFROM:+0100
TZOFFSETTO:+0000
TZNAME:GMT
DTSTART:20231029T010000
END:STANDARD
END:VTIMEZONE
BEGIN:VEVENT
DTSTART;TZID=Europe/London:20230528T080000
DTEND;TZID=Europe/London:20230528T190000
DTSTAMP:20260422T235332
CREATED:20230404T084657Z
LAST-MODIFIED:20230404T085028Z
UID:12344-1685260800-1685300400@hennesseysdigbeth.co.uk
SUMMARY:Elvis Tribute Mark Green and the Dixie Rock and Roll Band
DESCRIPTION:Come and enjoy the Bank Holiday in true style and celebrate with the King. \nA great atmosphere guaranteed. Doors open at 7pm til Late \nFree Before 8pm £5 thereafter \n  \n
URL:https://hennesseysdigbeth.co.uk/event/elvis-tribute-mark-green-and-the-dixie-rock-and-roll-band/
ATTACH;FMTTYPE=image/jpeg:https://hennesseysdigbeth.co.uk/website/wp-content/uploads/2023/04/Elvposter-scaled.jpg
END:VEVENT
END:VCALENDAR