BEGIN:VCALENDAR
VERSION:2.0
PRODID:-//Hennesseys Bar - Kitchen - Garden - ECPv4.9.13//NONSGML v1.0//EN
CALSCALE:GREGORIAN
METHOD:PUBLISH
X-WR-CALNAME:Hennesseys Bar - Kitchen - Garden
X-ORIGINAL-URL:https://hennesseysdigbeth.co.uk
X-WR-CALDESC:Events for Hennesseys Bar - Kitchen - Garden
BEGIN:VTIMEZONE
TZID:Europe/London
BEGIN:DAYLIGHT
TZOFFSETFROM:+0000
TZOFFSETTO:+0100
TZNAME:BST
DTSTART:20250330T010000
END:DAYLIGHT
BEGIN:STANDARD
TZOFFSETFROM:+0100
TZOFFSETTO:+0000
TZNAME:GMT
DTSTART:20251026T010000
END:STANDARD
END:VTIMEZONE
BEGIN:VEVENT
DTSTART;TZID=Europe/London:20250613T190000
DTEND;TZID=Europe/London:20250613T233000
DTSTAMP:20260423T083711
CREATED:20250530T113653Z
LAST-MODIFIED:20250530T113653Z
UID:14131-1749841200-1749857400@hennesseysdigbeth.co.uk
SUMMARY:Darren Hands
DESCRIPTION:Come and  enjoy a great night of live Music with Darren Hands at Hennesseys on Friday 13th June 2025  from 7:30pm.  Playing outstanding covers from throughout the decades including Oasis\, The Beatles\, The Jams\, the stones and many more. Not to be missed!! \nA great night with a great atmosphere is guaranteed. \n  \n  \n
URL:https://hennesseysdigbeth.co.uk/event/darren-hands-2/
CATEGORIES:2025,Birmingham,Live Music
ATTACH;FMTTYPE=image/jpeg:https://hennesseysdigbeth.co.uk/website/wp-content/uploads/2025/05/DARREN-HANDS-13-JUNE.jpg
END:VEVENT
END:VCALENDAR