BEGIN:VCALENDAR
VERSION:2.0
PRODID:-//Hennesseys Bar - Kitchen - Garden - ECPv4.9.13//NONSGML v1.0//EN
CALSCALE:GREGORIAN
METHOD:PUBLISH
X-WR-CALNAME:Hennesseys Bar - Kitchen - Garden
X-ORIGINAL-URL:https://hennesseysdigbeth.co.uk
X-WR-CALDESC:Events for Hennesseys Bar - Kitchen - Garden
BEGIN:VTIMEZONE
TZID:Europe/London
BEGIN:DAYLIGHT
TZOFFSETFROM:+0000
TZOFFSETTO:+0100
TZNAME:BST
DTSTART:20230326T010000
END:DAYLIGHT
BEGIN:STANDARD
TZOFFSETFROM:+0100
TZOFFSETTO:+0000
TZNAME:GMT
DTSTART:20231029T010000
END:STANDARD
END:VTIMEZONE
BEGIN:VEVENT
DTSTART;TZID=Europe/London:20230224T190000
DTEND;TZID=Europe/London:20230225T000000
DTSTAMP:20260423T044440
CREATED:20230119T145520Z
LAST-MODIFIED:20230206T133723Z
UID:12062-1677265200-1677283200@hennesseysdigbeth.co.uk
SUMMARY:Crazy Bingo - SOLD OUT
DESCRIPTION: \nCome down and enjoy the Crazy Bingo experience at Hennesseys ton Friday 24th February 2023 \nDoors open from 7pm \nExpect Drag Queens\, Adult Humour\, Big prizes sing off\, dance off and much more. Hen and Stag Parties’ welcome. \n\n					.button-button_button_17.btn-default:hover{background-color:#E18A07;color:#fff;box-shadow: 0 0 25px -3px #E18A07;}\n					.button-button_button_17.btn-default{color:#E18A07;}\n					.button-button_button_17.btn-default .btn-icon{color:#E18A07;}\n					.button-button_button_17.btn-default:hover .btn-icon{color:#fff;}\n				    	\n        BOOK YOUR TICKETS        \n        \n  \n  \n  \n  \n  \n
URL:https://hennesseysdigbeth.co.uk/event/crazy-bingo/
LOCATION:Hennesseys Digbeth Birmingham\, 30-31 Allison St\, Birmingham\, Birmingham\, B5 5TJ\, United Kingdom
CATEGORIES:Live Music,UB40
ATTACH;FMTTYPE=image/jpeg:https://hennesseysdigbeth.co.uk/website/wp-content/uploads/2023/01/bingobanner.jpg
END:VEVENT
END:VCALENDAR