BEGIN:VCALENDAR
VERSION:2.0
PRODID:-//Hennesseys Bar - Kitchen - Garden - ECPv4.9.13//NONSGML v1.0//EN
CALSCALE:GREGORIAN
METHOD:PUBLISH
X-WR-CALNAME:Hennesseys Bar - Kitchen - Garden
X-ORIGINAL-URL:https://hennesseysdigbeth.co.uk
X-WR-CALDESC:Events for Hennesseys Bar - Kitchen - Garden
BEGIN:VTIMEZONE
TZID:Europe/London
BEGIN:DAYLIGHT
TZOFFSETFROM:+0000
TZOFFSETTO:+0100
TZNAME:BST
DTSTART:20240331T010000
END:DAYLIGHT
BEGIN:STANDARD
TZOFFSETFROM:+0100
TZOFFSETTO:+0000
TZNAME:GMT
DTSTART:20241027T010000
END:STANDARD
END:VTIMEZONE
BEGIN:VEVENT
DTSTART;TZID=Europe/London:20241025T201500
DTEND;TZID=Europe/London:20241025T233000
DTSTAMP:20260422T092644
CREATED:20240924T145352Z
LAST-MODIFIED:20240927T161831Z
UID:13487-1729887300-1729899000@hennesseysdigbeth.co.uk
SUMMARY:Country Folk
DESCRIPTION:Come and  enjoy a great night of live Music with Country Folk   live at Hennesseys on Friday 25th October from 8:15pm.  Delivering some country classics which are not to be missed. \nA great night with a great atmosphere is guaranteed. \n  \n  \n
URL:https://hennesseysdigbeth.co.uk/event/country-folk/
CATEGORIES:2024,Birmingham,Live Music
ATTACH;FMTTYPE=image/jpeg:https://hennesseysdigbeth.co.uk/website/wp-content/uploads/2024/09/Slide7.jpg
END:VEVENT
END:VCALENDAR