BEGIN:VCALENDAR
VERSION:2.0
PRODID:-//Hennesseys Bar - Kitchen - Garden - ECPv4.9.13//NONSGML v1.0//EN
CALSCALE:GREGORIAN
METHOD:PUBLISH
X-WR-CALNAME:Hennesseys Bar - Kitchen - Garden
X-ORIGINAL-URL:https://hennesseysdigbeth.co.uk
X-WR-CALDESC:Events for Hennesseys Bar - Kitchen - Garden
BEGIN:VTIMEZONE
TZID:Asia/Krasnoyarsk
BEGIN:STANDARD
TZOFFSETFROM:+0700
TZOFFSETTO:+0700
TZNAME:+07
DTSTART:20200101T000000
END:STANDARD
END:VTIMEZONE
BEGIN:VEVENT
DTSTART;TZID=Asia/Krasnoyarsk:20200313T100000
DTEND;TZID=Asia/Krasnoyarsk:20200313T180000
DTSTAMP:20260423T150814
CREATED:20200203T130140Z
LAST-MODIFIED:20200205T160136Z
UID:7511-1584093600-1584122400@hennesseysdigbeth.co.uk
SUMMARY:Cheltenham Day 4 extended room
DESCRIPTION:\nCome and enjoy the Cheltenham Gold Cup Day  in true style at Hennesseys the only place to be to watch Live  Boxing\nVIP Function Room – All races  with commentary on big screen & multiple TVs with reserved seating. \n  \n    	\n        BOOK YOUR TABLE         \n        \nExtended room open until 6pm \n*drinks packages only available online for pre order* \n  \n
URL:https://hennesseysdigbeth.co.uk/event/cheltenham-vip-gold-cup-day-vip/
LOCATION:Hennesseys Digbeth Birmingham\, 30-31 Allison St\, Birmingham\, Birmingham\, B5 5TJ\, United Kingdom
CATEGORIES:Cheltenham,Sport
ATTACH;FMTTYPE=image/jpeg:https://hennesseysdigbeth.co.uk/website/wp-content/uploads/2020/01/BACK.jpg
END:VEVENT
END:VCALENDAR