BEGIN:VCALENDAR
VERSION:2.0
PRODID:-//Hennesseys Bar - Kitchen - Garden - ECPv4.9.13//NONSGML v1.0//EN
CALSCALE:GREGORIAN
METHOD:PUBLISH
X-WR-CALNAME:Hennesseys Bar - Kitchen - Garden
X-ORIGINAL-URL:https://hennesseysdigbeth.co.uk
X-WR-CALDESC:Events for Hennesseys Bar - Kitchen - Garden
BEGIN:VTIMEZONE
TZID:Asia/Krasnoyarsk
BEGIN:STANDARD
TZOFFSETFROM:+0700
TZOFFSETTO:+0700
TZNAME:+07
DTSTART:20230101T000000
END:STANDARD
END:VTIMEZONE
BEGIN:VEVENT
DTSTART;VALUE=DATE:20230314
DTEND;VALUE=DATE:20230318
DTSTAMP:20260423T104951
CREATED:20230104T124926Z
LAST-MODIFIED:20230104T125409Z
UID:12023-1678752000-1679097599@hennesseysdigbeth.co.uk
SUMMARY:Cheltenham Festival 2023
DESCRIPTION:Come and watch The Cheltenham Festival 2023 with every race Live with commentary at Hennesseys. The only  place to be for the Cheltenham  Festival 2022. \nEasy access to bookmaker & great Wi-fi for all you on-line betters \nBe sure to book your table for any day\, remember Gold Cup day sells out so book early. \nA table booking costs £50 and you will receive a food & drinks tab for £50 to spend on the day together with your reserved table. \nAreas available to book \n    \n    	\n                	Garden (120 seated)                \n        \n    \n    \nAvailable for individual tables up to 8 seated or for larger groups by arrangement \nHUGE LED screen & stadium sound – marquee – heaters – outside bar \n    \n    	\n                	Garden Balcony (40 seated)                \n        \n    \n    \nPrivate seated area for up to 40 guests – suitable for corporate hire \nTable service – bespoke catering by arrangement \nHeated – 2 x 60-inch Ultra HD TVs – retractable roof \noverlooking main garden bar \n    \n    	\n                	Main Bar (140 seated)                \n        \n    \n    \nTables from 2 to 20 \n15 x Multiscreens throughout the main bar \n    \n    	\n                	Basement Bar (120 seated)                \n        \n    \n    \nAvailable for private hire  \nPrivate bar – WCs – 6 TVs inc 100 inch LCD and 1 x Huge screen\, full catering for you and your guests to relax and enjoy Cheltenham in style \n    	\n        BOOK YOUR TABLE NOW        \n        \n  \n  \n  \n  \n  \n
URL:https://hennesseysdigbeth.co.uk/event/cheltenham-festival-2023/
LOCATION:Hennesseys Digbeth Birmingham\, 30-31 Allison St\, Birmingham\, Birmingham\, B5 5TJ\, United Kingdom
CATEGORIES:Cheltenham
ATTACH;FMTTYPE=image/jpeg:https://hennesseysdigbeth.co.uk/website/wp-content/uploads/2023/01/11-scaled.jpeg
END:VEVENT
END:VCALENDAR