BEGIN:VCALENDAR
VERSION:2.0
PRODID:-//Hennesseys Bar - Kitchen - Garden - ECPv4.9.13//NONSGML v1.0//EN
CALSCALE:GREGORIAN
METHOD:PUBLISH
X-WR-CALNAME:Hennesseys Bar - Kitchen - Garden
X-ORIGINAL-URL:https://hennesseysdigbeth.co.uk
X-WR-CALDESC:Events for Hennesseys Bar - Kitchen - Garden
BEGIN:VTIMEZONE
TZID:Europe/London
BEGIN:DAYLIGHT
TZOFFSETFROM:+0000
TZOFFSETTO:+0100
TZNAME:BST
DTSTART:20230326T010000
END:DAYLIGHT
BEGIN:STANDARD
TZOFFSETFROM:+0100
TZOFFSETTO:+0000
TZNAME:GMT
DTSTART:20231029T010000
END:STANDARD
END:VTIMEZONE
BEGIN:VEVENT
DTSTART;TZID=Europe/London:20230513T203000
DTEND;TZID=Europe/London:20230513T235900
DTSTAMP:20260423T031723
CREATED:20230426T070645Z
LAST-MODIFIED:20230426T070701Z
UID:12401-1684009800-1684022340@hennesseysdigbeth.co.uk
SUMMARY:Change at Baker Street - Live Music
DESCRIPTION:Come and enjoy some High energy Rock\, pop and Soul from the 1960s  performed by Change at Baker Street at Hennesseys on Saturday 13th May . A great night atmosphere is guaranteed. \nLIVE FROM 8:30pm \n  \n  \n
URL:https://hennesseysdigbeth.co.uk/event/change-at-baker-street-live-music/
CATEGORIES:Live Music
ATTACH;FMTTYPE=image/jpeg:https://hennesseysdigbeth.co.uk/website/wp-content/uploads/2023/04/chnge-at-baler-st-13th-may.jpeg
END:VEVENT
END:VCALENDAR