BEGIN:VCALENDAR
VERSION:2.0
PRODID:-//Hennesseys Bar - Kitchen - Garden - ECPv4.9.13//NONSGML v1.0//EN
CALSCALE:GREGORIAN
METHOD:PUBLISH
X-WR-CALNAME:Hennesseys Bar - Kitchen - Garden
X-ORIGINAL-URL:https://hennesseysdigbeth.co.uk
X-WR-CALDESC:Events for Hennesseys Bar - Kitchen - Garden
BEGIN:VTIMEZONE
TZID:Europe/London
BEGIN:DAYLIGHT
TZOFFSETFROM:+0000
TZOFFSETTO:+0100
TZNAME:BST
DTSTART:20230326T010000
END:DAYLIGHT
BEGIN:STANDARD
TZOFFSETFROM:+0100
TZOFFSETTO:+0000
TZNAME:GMT
DTSTART:20231029T010000
END:STANDARD
END:VTIMEZONE
BEGIN:VEVENT
DTSTART;VALUE=DATE:20230409
DTEND;VALUE=DATE:20230410
DTSTAMP:20260423T061417
CREATED:20230314T144358Z
LAST-MODIFIED:20230314T144358Z
UID:12293-1680998400-1681084799@hennesseysdigbeth.co.uk
SUMMARY:Britpop United Easter Sunday 9th April
DESCRIPTION:Come and  enjoy and a great of live Music with Britpop United live at Hennesseys. There will be nritpop anthems throughout including Oasis\, Blur\, the stone roses and many more \nFREE before 8pm £5 Pound on the door thereafter \n  \n  \n
URL:https://hennesseysdigbeth.co.uk/event/britpop-united-easter-sunday-9th-april/
CATEGORIES:Britpop United,Easter Sunday
ATTACH;FMTTYPE=image/jpeg:https://hennesseysdigbeth.co.uk/website/wp-content/uploads/2023/03/vpop1.jpg
END:VEVENT
END:VCALENDAR