BEGIN:VCALENDAR
VERSION:2.0
PRODID:-//Hennesseys Bar - Kitchen - Garden - ECPv4.9.13//NONSGML v1.0//EN
CALSCALE:GREGORIAN
METHOD:PUBLISH
X-WR-CALNAME:Hennesseys Bar - Kitchen - Garden
X-ORIGINAL-URL:https://hennesseysdigbeth.co.uk
X-WR-CALDESC:Events for Hennesseys Bar - Kitchen - Garden
BEGIN:VTIMEZONE
TZID:Asia/Krasnoyarsk
BEGIN:STANDARD
TZOFFSETFROM:+0700
TZOFFSETTO:+0700
TZNAME:+07
DTSTART:20190101T000000
END:STANDARD
END:VTIMEZONE
BEGIN:VEVENT
DTSTART;TZID=Asia/Krasnoyarsk:20191226T080000
DTEND;TZID=Asia/Krasnoyarsk:20191226T170000
DTSTAMP:20260423T151819
CREATED:20191022T112153Z
LAST-MODIFIED:20191128T102506Z
UID:6412-1577347200-1577379600@hennesseysdigbeth.co.uk
SUMMARY:Boxing day Bonanza
DESCRIPTION:Come and enjoy our boxing day bonanza at Hennesseys. A Great sporting day out for family & friends \nFull English Breakfasts\, plus full menu and sporting offers through out the day \nLive football on our Amazing multi screens \nTottenham v Brightom 12.30\nLeicester v Liverpool 3pm\nVilla v Norwich 3pm\nChelsea v Southampton 3pm\nMan United v Newcastle 5.30pm \n \nClick Book a Table below \n    	    	\n            \n            	                \n                	\n                \n                            \n            \n                £50 TABLES COME WITH A £60 BAR TAB\n£100 TABLES COME WITH A £120 BAR TAB             \n            \n        \n        			\n        #leaf-icon-box-1 .ia-icon{ color: #; border-color: #}#leaf-icon-box-1 .ia-icon:hover\, #leaf-icon-box-1:hover .ia-icon{ background: #; border-color: #; color:#fff; box-shadow: 0 0 25px -3px #;}        \n    \n  \n    	\n        BOOK NOW        \n        \n  \n    \n    	\n                	Inside Plan                \n        \n    \n    \n \n    \n    	\n                	Oustide Plan                \n        \n    \n    \n \n  \n  \n
URL:https://hennesseysdigbeth.co.uk/event/boxing-day-bonanza/
LOCATION:Hennesseys Digbeth Birmingham\, 30-31 Allison St\, Birmingham\, Birmingham\, B5 5TJ\, United Kingdom
CATEGORIES:Christmas,Sport
ATTACH;FMTTYPE=image/jpeg:https://hennesseysdigbeth.co.uk/website/wp-content/uploads/2019/10/b2.jpg
END:VEVENT
END:VCALENDAR