BEGIN:VCALENDAR
VERSION:2.0
PRODID:-//Hennesseys Bar - Kitchen - Garden - ECPv4.9.13//NONSGML v1.0//EN
CALSCALE:GREGORIAN
METHOD:PUBLISH
X-WR-CALNAME:Hennesseys Bar - Kitchen - Garden
X-ORIGINAL-URL:https://hennesseysdigbeth.co.uk
X-WR-CALDESC:Events for Hennesseys Bar - Kitchen - Garden
BEGIN:VTIMEZONE
TZID:Asia/Krasnoyarsk
BEGIN:STANDARD
TZOFFSETFROM:+0700
TZOFFSETTO:+0700
TZNAME:+07
DTSTART:20190101T000000
END:STANDARD
END:VTIMEZONE
BEGIN:VEVENT
DTSTART;TZID=Asia/Krasnoyarsk:20191207T190000
DTEND;TZID=Asia/Krasnoyarsk:20191208T013000
DTSTAMP:20260423T182625
CREATED:20191114T121745Z
LAST-MODIFIED:20191115T131127Z
UID:6549-1575745200-1575768600@hennesseysdigbeth.co.uk
SUMMARY:RUIZ VS JOSHUA 2
DESCRIPTION:Come and enjoy our Ruiz vs Joshua 2 in true style at Hennesseys the only place to be to watch Live  Boxing\nVIP Function Room – Fight & build up with commentary on big screen & multiple TVs with reserved seating (bar closes 1 hour after end of fight) \n    	\n        BOOK YOUR TABLE & PRE ORDER DRINKS        \n        \n\nGarden – Fight & build up with commentary with unreserved seating\nMain Bar – Fight will be shown on multiple screens with no sound and DJ playing \n£5 walk in price\nFood served until 10pm \n*drinks packages only available online for pre order* \n  \n
URL:https://hennesseysdigbeth.co.uk/event/boxing-day-bonanza-2/
LOCATION:Hennesseys Digbeth Birmingham\, 30-31 Allison St\, Birmingham\, Birmingham\, B5 5TJ\, United Kingdom
CATEGORIES:Sport
ATTACH;FMTTYPE=image/jpeg:https://hennesseysdigbeth.co.uk/website/wp-content/uploads/2019/11/ajweb2.jpg
END:VEVENT
END:VCALENDAR