BEGIN:VCALENDAR
VERSION:2.0
PRODID:-//Hennesseys Bar - Kitchen - Garden - ECPv4.9.13//NONSGML v1.0//EN
CALSCALE:GREGORIAN
METHOD:PUBLISH
X-WR-CALNAME:Hennesseys Bar - Kitchen - Garden
X-ORIGINAL-URL:https://hennesseysdigbeth.co.uk
X-WR-CALDESC:Events for Hennesseys Bar - Kitchen - Garden
BEGIN:VTIMEZONE
TZID:Europe/London
BEGIN:DAYLIGHT
TZOFFSETFROM:+0000
TZOFFSETTO:+0100
TZNAME:BST
DTSTART:20260329T010000
END:DAYLIGHT
BEGIN:STANDARD
TZOFFSETFROM:+0100
TZOFFSETTO:+0000
TZNAME:GMT
DTSTART:20261025T010000
END:STANDARD
END:VTIMEZONE
BEGIN:VEVENT
DTSTART;TZID=Europe/London:20260509T193000
DTEND;TZID=Europe/London:20260509T230000
DTSTAMP:20260422T083442
CREATED:20260312T133735Z
LAST-MODIFIED:20260312T133735Z
UID:14750-1778355000-1778367600@hennesseysdigbeth.co.uk
SUMMARY:Bang On The Ear
DESCRIPTION:\n\n\n\n\n\n\n\n🎶 Bang on the Ear – Live! 🎶 \nGet ready for a brilliant night of live music as Bang on the Ear bring their lively mix of covers from across the decades and genres\, all delivered with plenty of Irish spirit and energy. \n🔥 Bang on the Ear – Live📅 Saturday 9th May from 7:30pm📍 Hennessey’s\, Digbeth \nFrom classic sing-along favourites to upbeat crowd-pleasers\, their high-energy set blends well-loved hits with a strong Irish flavour that always gets the crowd involved. \nExpect a night full of great music\, big sing-along moments\, and plenty of craic that will keep the party going from start to finish. \n🎶 Covers from across the decades & genres🍻 Great drinks & late-night Digbeth vibes \n🎟️ Don’t miss out – get down early and join the party! 🍀🎤 \n\n\n\n\n\n\n\n\n\n\n\n\n\n
URL:https://hennesseysdigbeth.co.uk/event/bang-on-the-ear-5/
LOCATION:Hennesseys Digbeth Birmingham\, 30-31 Allison St\, Birmingham\, Birmingham\, B5 5TJ\, United Kingdom
CATEGORIES:2026,Live Music
ATTACH;FMTTYPE=image/png:https://hennesseysdigbeth.co.uk/website/wp-content/uploads/2026/03/Bang-the-ear.png
END:VEVENT
END:VCALENDAR