BEGIN:VCALENDAR
VERSION:2.0
PRODID:-//Hennesseys Bar - Kitchen - Garden - ECPv4.9.13//NONSGML v1.0//EN
CALSCALE:GREGORIAN
METHOD:PUBLISH
X-WR-CALNAME:Hennesseys Bar - Kitchen - Garden
X-ORIGINAL-URL:https://hennesseysdigbeth.co.uk
X-WR-CALDESC:Events for Hennesseys Bar - Kitchen - Garden
BEGIN:VTIMEZONE
TZID:Europe/London
BEGIN:DAYLIGHT
TZOFFSETFROM:+0000
TZOFFSETTO:+0100
TZNAME:BST
DTSTART:20230326T010000
END:DAYLIGHT
BEGIN:STANDARD
TZOFFSETFROM:+0100
TZOFFSETTO:+0000
TZNAME:GMT
DTSTART:20231029T010000
END:STANDARD
END:VTIMEZONE
BEGIN:VEVENT
DTSTART;TZID=Europe/London:20230715T190000
DTEND;TZID=Europe/London:20230715T235900
DTSTAMP:20260422T155003
CREATED:20230531T164653Z
LAST-MODIFIED:20230713T095153Z
UID:12474-1689447600-1689465540@hennesseysdigbeth.co.uk
SUMMARY:Azure
DESCRIPTION:Come and  enjoy a great night of live Music with Azure live at Hennesseys on Saturday 15th July from 7pm. They will be covering sing along anthems from the likes of the Killers\, Oasis\, Erasure. The Jam and Many More A great night with a great atmosphere is guaranteed. \n  \n  \n
URL:https://hennesseysdigbeth.co.uk/event/azure/
CATEGORIES:Live Music,Saturday Night
ATTACH;FMTTYPE=image/jpeg:https://hennesseysdigbeth.co.uk/website/wp-content/uploads/2023/05/AZURE-BAND.jpg
END:VEVENT
END:VCALENDAR