BEGIN:VCALENDAR
VERSION:2.0
PRODID:-//Hennesseys Bar - Kitchen - Garden - ECPv4.9.13//NONSGML v1.0//EN
CALSCALE:GREGORIAN
METHOD:PUBLISH
X-WR-CALNAME:Hennesseys Bar - Kitchen - Garden
X-ORIGINAL-URL:https://hennesseysdigbeth.co.uk
X-WR-CALDESC:Events for Hennesseys Bar - Kitchen - Garden
BEGIN:VTIMEZONE
TZID:Europe/London
BEGIN:DAYLIGHT
TZOFFSETFROM:+0000
TZOFFSETTO:+0100
TZNAME:BST
DTSTART:20260329T010000
END:DAYLIGHT
BEGIN:STANDARD
TZOFFSETFROM:+0100
TZOFFSETTO:+0000
TZNAME:GMT
DTSTART:20261025T010000
END:STANDARD
END:VTIMEZONE
BEGIN:VEVENT
DTSTART;TZID=Europe/London:20260524T200000
DTEND;TZID=Europe/London:20260524T230000
DTSTAMP:20260422T103112
CREATED:20260417T115811Z
LAST-MODIFIED:20260417T115811Z
UID:14791-1779652800-1779663600@hennesseysdigbeth.co.uk
SUMMARY:Abba Stars
DESCRIPTION:Get ready for a Bank Holiday Sunday packed with glitter\, glamour\, and timeless pop at Hennessey’s as Abba Stars bring the ultimate ABBA tribute show to the stage. \n🔥 Abba Stars – Live📅 Sunday 24th May (Bank Holiday)⏰ From 8:00pm📍 Hennessey’s \nRelive the magic of one of the greatest pop groups of all time with pitch-perfect vocals\, dazzling costumes\, and all the unforgettable hits you know and love. From dancefloor classics to sing-along favourites\, Abba Stars recreate the sound and sparkle of ABBA in a show that’s guaranteed to have the whole venue joining in. \nWhether you’re a lifelong fan or just love a great night of feel-good music\, this is a Bank Holiday party not to be missed. \n🎤 The ultimate ABBA tribute🍻 Great drinks & party atmosphere🎶 All the iconic hits live on stage \nFree entry – everyone welcome! \n
URL:https://hennesseysdigbeth.co.uk/event/abba-stars-2/
LOCATION:Hennesseys Digbeth Birmingham\, 30-31 Allison St\, Birmingham\, Birmingham\, B5 5TJ\, United Kingdom
CATEGORIES:2026,Live Music
ATTACH;FMTTYPE=image/jpeg:https://hennesseysdigbeth.co.uk/website/wp-content/uploads/2026/04/GENERIC-ABBA-STARS-UK-2.jpg
END:VEVENT
END:VCALENDAR