BEGIN:VCALENDAR
VERSION:2.0
PRODID:-//Hennesseys Bar - Kitchen - Garden - ECPv4.9.13//NONSGML v1.0//EN
CALSCALE:GREGORIAN
METHOD:PUBLISH
X-WR-CALNAME:Hennesseys Bar - Kitchen - Garden
X-ORIGINAL-URL:https://hennesseysdigbeth.co.uk
X-WR-CALDESC:Events for Hennesseys Bar - Kitchen - Garden
BEGIN:VTIMEZONE
TZID:Europe/London
BEGIN:DAYLIGHT
TZOFFSETFROM:+0000
TZOFFSETTO:+0100
TZNAME:BST
DTSTART:20220327T010000
END:DAYLIGHT
BEGIN:STANDARD
TZOFFSETFROM:+0100
TZOFFSETTO:+0000
TZNAME:GMT
DTSTART:20221030T010000
END:STANDARD
END:VTIMEZONE
BEGIN:VEVENT
DTSTART;TZID=Europe/London:20220709T150000
DTEND;TZID=Europe/London:20220709T190000
DTSTAMP:20260423T061805
CREATED:20220622T140744Z
LAST-MODIFIED:20220627T124748Z
UID:11543-1657378800-1657393200@hennesseysdigbeth.co.uk
SUMMARY:80's experience
DESCRIPTION:The Full 80’s experience covering the 80’s classics. \nFree Live show in the Garden!! \n\nhttps://hennesseysdigbeth.co.uk/website/wp-content/uploads/2022/06/80s.mp4\n  \n  \n
URL:https://hennesseysdigbeth.co.uk/event/89s-experience/
CATEGORIES:Birmingham,Live Music
ATTACH;FMTTYPE=image/jpeg:https://hennesseysdigbeth.co.uk/website/wp-content/uploads/2022/06/80s-Experience.jpg
END:VEVENT
END:VCALENDAR