BEGIN:VCALENDAR
VERSION:2.0
PRODID:-//Hennesseys Bar - Kitchen - Garden - ECPv4.9.13//NONSGML v1.0//EN
CALSCALE:GREGORIAN
METHOD:PUBLISH
X-WR-CALNAME:Hennesseys Bar - Kitchen - Garden
X-ORIGINAL-URL:https://hennesseysdigbeth.co.uk
X-WR-CALDESC:Events for Hennesseys Bar - Kitchen - Garden
BEGIN:VTIMEZONE
TZID:Europe/London
BEGIN:DAYLIGHT
TZOFFSETFROM:+0000
TZOFFSETTO:+0100
TZNAME:BST
DTSTART:20250330T010000
END:DAYLIGHT
BEGIN:STANDARD
TZOFFSETFROM:+0100
TZOFFSETTO:+0000
TZNAME:GMT
DTSTART:20251026T010000
END:STANDARD
END:VTIMEZONE
BEGIN:VEVENT
DTSTART;TZID=Europe/London:20250830T190000
DTEND;TZID=Europe/London:20250830T233000
DTSTAMP:20260422T101559
CREATED:20250808T083933Z
LAST-MODIFIED:20250808T083933Z
UID:14275-1756580400-1756596600@hennesseysdigbeth.co.uk
SUMMARY:80's Synth Pop
DESCRIPTION:Join us for an unforgettable evening of live 80’s synth-pop at Hennessey’s on Saturday\, 30th August 2025\, starting at 7:30 PM.Enjoy a spectacular set packed with iconic 80’s classics that will have you up\, dancing\, and singing along all night. A night of pure nostalgia and energy — don’t miss it! \nA great night with a great atmosphere is guaranteed. \n  \n  \n
URL:https://hennesseysdigbeth.co.uk/event/80s-synth-pop/
CATEGORIES:2025,Birmingham,Live Music
ATTACH;FMTTYPE=image/jpeg:https://hennesseysdigbeth.co.uk/website/wp-content/uploads/2025/08/synthian-1.jpg
END:VEVENT
END:VCALENDAR