BEGIN:VCALENDAR
VERSION:2.0
PRODID:-//Hennesseys Bar - Kitchen - Garden - ECPv4.9.13//NONSGML v1.0//EN
CALSCALE:GREGORIAN
METHOD:PUBLISH
X-WR-CALNAME:Hennesseys Bar - Kitchen - Garden
X-ORIGINAL-URL:https://hennesseysdigbeth.co.uk
X-WR-CALDESC:Events for Hennesseys Bar - Kitchen - Garden
BEGIN:VTIMEZONE
TZID:Europe/London
BEGIN:DAYLIGHT
TZOFFSETFROM:+0000
TZOFFSETTO:+0100
TZNAME:BST
DTSTART:20250330T010000
END:DAYLIGHT
BEGIN:STANDARD
TZOFFSETFROM:+0100
TZOFFSETTO:+0000
TZNAME:GMT
DTSTART:20251026T010000
END:STANDARD
END:VTIMEZONE
BEGIN:VEVENT
DTSTART;TZID=Europe/London:20250516T190000
DTEND;TZID=Europe/London:20250516T233000
DTSTAMP:20260421T141131
CREATED:20250515T092055Z
LAST-MODIFIED:20250515T092055Z
UID:14068-1747422000-1747438200@hennesseysdigbeth.co.uk
SUMMARY:80'S Party
DESCRIPTION:Join us this Friday\, May 16th at Hennessey’s for an 80s Party to remember! Dust off those leg warmers\, tease up that hair\, and get ready to groove to the best hits from the decade of neon\, big hair\, and epic tunes. \nStarting at 8 PM\, we’re bringing back the iconic 80s vibe with  live covers band playing some absolute  classics \nDon’t miss the chance to relive the decade that defined a generation. \nA great night with a great atmosphere is guaranteed. \n  \n  \n
URL:https://hennesseysdigbeth.co.uk/event/80s-party/
CATEGORIES:2025,Birmingham,Live Music
ATTACH;FMTTYPE=image/jpeg:https://hennesseysdigbeth.co.uk/website/wp-content/uploads/2025/05/80s.jpg
END:VEVENT
END:VCALENDAR