BEGIN:VCALENDAR
VERSION:2.0
PRODID:-//Hennesseys Bar - Kitchen - Garden - ECPv4.9.13//NONSGML v1.0//EN
CALSCALE:GREGORIAN
METHOD:PUBLISH
X-WR-CALNAME:Hennesseys Bar - Kitchen - Garden
X-ORIGINAL-URL:https://hennesseysdigbeth.co.uk
X-WR-CALDESC:Events for Hennesseys Bar - Kitchen - Garden
BEGIN:VTIMEZONE
TZID:Europe/London
BEGIN:DAYLIGHT
TZOFFSETFROM:+0000
TZOFFSETTO:+0100
TZNAME:BST
DTSTART:20250330T010000
END:DAYLIGHT
BEGIN:STANDARD
TZOFFSETFROM:+0100
TZOFFSETTO:+0000
TZNAME:GMT
DTSTART:20251026T010000
END:STANDARD
END:VTIMEZONE
BEGIN:VEVENT
DTSTART;TZID=Europe/London:20250425T190000
DTEND;TZID=Europe/London:20250425T233000
DTSTAMP:20260423T082831
CREATED:20250324T171554Z
LAST-MODIFIED:20250324T171554Z
UID:13978-1745607600-1745623800@hennesseysdigbeth.co.uk
SUMMARY:2Tone Review
DESCRIPTION:Come and  enjoy a great night of live Music with the 2Tone Review live at Hennesseys on Friday 25th April 2025.  2Tone Review will be performing some abolute SKA Classics guaranteed to get you up on the dance floor. An evening of live music which should not be missed!!! \nA great night with a great atmosphere is guaranteed. \n  \n  \n
URL:https://hennesseysdigbeth.co.uk/event/2tone-review/
CATEGORIES:2025,Birmingham,Live Music
ATTACH;FMTTYPE=image/jpeg:https://hennesseysdigbeth.co.uk/website/wp-content/uploads/2025/03/TWO-TONE-REVIEW.jpg
END:VEVENT
END:VCALENDAR