BEGIN:VCALENDAR
VERSION:2.0
PRODID:-//Hennesseys Bar - Kitchen - Garden - ECPv4.9.13//NONSGML v1.0//EN
CALSCALE:GREGORIAN
METHOD:PUBLISH
X-WR-CALNAME:Hennesseys Bar - Kitchen - Garden
X-ORIGINAL-URL:https://hennesseysdigbeth.co.uk
X-WR-CALDESC:Events for Hennesseys Bar - Kitchen - Garden
BEGIN:VTIMEZONE
TZID:Europe/London
BEGIN:DAYLIGHT
TZOFFSETFROM:+0000
TZOFFSETTO:+0100
TZNAME:BST
DTSTART:20220327T010000
END:DAYLIGHT
BEGIN:STANDARD
TZOFFSETFROM:+0100
TZOFFSETTO:+0000
TZNAME:GMT
DTSTART:20221030T010000
END:STANDARD
END:VTIMEZONE
BEGIN:VEVENT
DTSTART;TZID=Europe/London:20220702T150000
DTEND;TZID=Europe/London:20220702T190000
DTSTAMP:20260423T075130
CREATED:20220622T140007Z
LAST-MODIFIED:20220627T124814Z
UID:11541-1656774000-1656788400@hennesseysdigbeth.co.uk
SUMMARY:2 July Dino Baptiste
DESCRIPTION:Direct from The Jam House one of Brums finest live acts is here to have a bit of fun in the sun! \nFree Live show in the Garden! \n\nhttps://hennesseysdigbeth.co.uk/website/wp-content/uploads/2022/06/dino-baptiste.mp4\n  \n
URL:https://hennesseysdigbeth.co.uk/event/2-july-dino-baptiste/
ATTACH;FMTTYPE=image/jpeg:https://hennesseysdigbeth.co.uk/website/wp-content/uploads/2022/06/dino.jpg
END:VEVENT
END:VCALENDAR