BEGIN:VCALENDAR
VERSION:2.0
PRODID:-//Hennesseys Bar - Kitchen - Garden - ECPv4.9.13//NONSGML v1.0//EN
CALSCALE:GREGORIAN
METHOD:PUBLISH
X-WR-CALNAME:Hennesseys Bar - Kitchen - Garden
X-ORIGINAL-URL:https://hennesseysdigbeth.co.uk
X-WR-CALDESC:Events for Hennesseys Bar - Kitchen - Garden
BEGIN:VTIMEZONE
TZID:Europe/London
BEGIN:DAYLIGHT
TZOFFSETFROM:+0000
TZOFFSETTO:+0100
TZNAME:BST
DTSTART:20230326T010000
END:DAYLIGHT
BEGIN:STANDARD
TZOFFSETFROM:+0100
TZOFFSETTO:+0000
TZNAME:GMT
DTSTART:20231029T010000
END:STANDARD
END:VTIMEZONE
BEGIN:VEVENT
DTSTART;VALUE=DATE:20230430
DTEND;VALUE=DATE:20230501
DTSTAMP:20260423T055651
CREATED:20230306T111749Z
LAST-MODIFIED:20230320T172333Z
UID:12258-1682812800-1682899199@hennesseysdigbeth.co.uk
SUMMARY:Reggaelators
DESCRIPTION:Come and enjoy some ska and reggae classic performed by the Reggaelators at Hennesseys on Bank holiday Sunday 39th April. A great day atmosphere is guaranteed. \nFREE ENTRY BEFORE 8PM AND £5 THEREAFTER \n \n \n
URL:https://hennesseysdigbeth.co.uk/event/12258/
CATEGORIES:Reggae
ATTACH;FMTTYPE=image/jpeg:https://hennesseysdigbeth.co.uk/website/wp-content/uploads/2023/03/reggae.jpg
END:VEVENT
END:VCALENDAR